BEGIN:VCALENDAR
VERSION:2.0
PRODID:-//Providencia - ECPv4.6.25//NONSGML v1.0//EN
CALSCALE:GREGORIAN
METHOD:PUBLISH
X-WR-CALNAME:Providencia
X-ORIGINAL-URL:http://www.providencia.org.uy
X-WR-CALDESC:Eventos para Providencia
BEGIN:VEVENT
DTSTART;TZID=UTC+0:20200224T080000
DTEND;TZID=UTC+0:20200224T170000
DTSTAMP:20260420T094056
CREATED:20200225T181331Z
LAST-MODIFIED:20200225T181331Z
UID:4807-1582531200-1582563600@www.providencia.org.uy
SUMMARY:Comienza formación específica grupo 8 Formación Laboral
DESCRIPTION:
URL:http://www.providencia.org.uy/actividad/comienza-formacion-especifica-grupo-8-formacion-laboral/
END:VEVENT
END:VCALENDAR