BEGIN:VCALENDAR
VERSION:2.0
PRODID:-//Providencia - ECPv4.6.25//NONSGML v1.0//EN
CALSCALE:GREGORIAN
METHOD:PUBLISH
X-WR-CALNAME:Providencia
X-ORIGINAL-URL:http://www.providencia.org.uy
X-WR-CALDESC:Eventos para Providencia
BEGIN:VEVENT
DTSTART;VALUE=DATE:20200203
DTEND;VALUE=DATE:20200204
DTSTAMP:20260420T022814
CREATED:20200220T165141Z
LAST-MODIFIED:20200220T165141Z
UID:4768-1580688000-1580774399@www.providencia.org.uy
SUMMARY:Comienza formación transversal de grupo 9 de Formación Laboral
DESCRIPTION:
URL:http://www.providencia.org.uy/actividad/comienza-formacion-transversal-de-grupo-9-de-formacion-laboral/
END:VEVENT
END:VCALENDAR