BEGIN:VCALENDAR
VERSION:2.0
PRODID:-//Providencia - ECPv4.6.25//NONSGML v1.0//EN
CALSCALE:GREGORIAN
METHOD:PUBLISH
X-WR-CALNAME:Providencia
X-ORIGINAL-URL:http://www.providencia.org.uy
X-WR-CALDESC:Eventos para Providencia
BEGIN:VEVENT
DTSTART;TZID=UTC+0:20200220T080000
DTEND;TZID=UTC+0:20200220T170000
DTSTAMP:20260420T063112
CREATED:20200225T181145Z
LAST-MODIFIED:20200225T181145Z
UID:4798-1582185600-1582218000@www.providencia.org.uy
SUMMARY:Comienzo de clases 3er año liceo
DESCRIPTION:
URL:http://www.providencia.org.uy/actividad/comienzo-de-clases-3er-ano-liceo/
END:VEVENT
END:VCALENDAR