BEGIN:VCALENDAR
VERSION:2.0
PRODID:-//Providencia - ECPv4.6.25//NONSGML v1.0//EN
CALSCALE:GREGORIAN
METHOD:PUBLISH
X-WR-CALNAME:Providencia
X-ORIGINAL-URL:http://www.providencia.org.uy
X-WR-CALDESC:Eventos para Providencia
BEGIN:VEVENT
DTSTART;TZID=UTC+0:20200221T080000
DTEND;TZID=UTC+0:20200221T170000
DTSTAMP:20260420T080817
CREATED:20200225T181226Z
LAST-MODIFIED:20200225T181226Z
UID:4802-1582272000-1582304400@www.providencia.org.uy
SUMMARY:Encuentro de catequistas y despertadores
DESCRIPTION:
URL:http://www.providencia.org.uy/actividad/encuentro-de-catequistas-y-despertadores-2/
END:VEVENT
END:VCALENDAR