BEGIN:VCALENDAR
VERSION:2.0
PRODID:-//Providencia - ECPv4.6.25//NONSGML v1.0//EN
CALSCALE:GREGORIAN
METHOD:PUBLISH
X-WR-CALNAME:Providencia
X-ORIGINAL-URL:http://www.providencia.org.uy
X-WR-CALDESC:Eventos para Providencia
BEGIN:VEVENT
DTSTART;TZID=UTC+0:20191231T080000
DTEND;TZID=UTC+0:20191231T170000
DTSTAMP:20260420T055907
CREATED:20191226T124412Z
LAST-MODIFIED:20191226T124412Z
UID:4722-1577779200-1577811600@www.providencia.org.uy
SUMMARY:Fin de año
DESCRIPTION:
URL:http://www.providencia.org.uy/actividad/fin-de-ano-2/
END:VEVENT
END:VCALENDAR