BEGIN:VCALENDAR
VERSION:2.0
PRODID:-//Providencia - ECPv4.6.25//NONSGML v1.0//EN
CALSCALE:GREGORIAN
METHOD:PUBLISH
X-WR-CALNAME:Providencia
X-ORIGINAL-URL:http://www.providencia.org.uy
X-WR-CALDESC:Eventos para Providencia
BEGIN:VEVENT
DTSTART;TZID=UTC+0:20200206T080000
DTEND;TZID=UTC+0:20200207T170000
DTSTAMP:20260419T205506
CREATED:20200225T180431Z
LAST-MODIFIED:20200225T180431Z
UID:4775-1580976000-1581094800@www.providencia.org.uy
SUMMARY:Formación Proeducar Club de Niños
DESCRIPTION:
URL:http://www.providencia.org.uy/actividad/formacion-proeducar-club-de-ninos/
END:VEVENT
END:VCALENDAR