BEGIN:VCALENDAR
VERSION:2.0
PRODID:-//Providencia - ECPv4.6.25//NONSGML v1.0//EN
CALSCALE:GREGORIAN
METHOD:PUBLISH
X-WR-CALNAME:Providencia
X-ORIGINAL-URL:http://www.providencia.org.uy
X-WR-CALDESC:Eventos para Providencia
BEGIN:VEVENT
DTSTART;VALUE=DATE:20200205
DTEND;VALUE=DATE:20200206
DTSTAMP:20260419T225127
CREATED:20200220T170114Z
LAST-MODIFIED:20200220T170114Z
UID:4772-1580860800-1580947199@www.providencia.org.uy
SUMMARY:Jornada de reencuentro del Centro Juvenil
DESCRIPTION:
URL:http://www.providencia.org.uy/actividad/jornada-de-reencuentro-del-centro-juvenil/
END:VEVENT
END:VCALENDAR