BEGIN:VCALENDAR
VERSION:2.0
PRODID:-//Providencia - ECPv4.6.25//NONSGML v1.0//EN
CALSCALE:GREGORIAN
METHOD:PUBLISH
X-WR-CALNAME:Providencia
X-ORIGINAL-URL:http://www.providencia.org.uy
X-WR-CALDESC:Eventos para Providencia
BEGIN:VEVENT
DTSTART;TZID=UTC+0:20200215T080000
DTEND;TZID=UTC+0:20200215T170000
DTSTAMP:20260419T234126
CREATED:20200225T180807Z
LAST-MODIFIED:20200225T180807Z
UID:4787-1581753600-1581786000@www.providencia.org.uy
SUMMARY:Jornada Despegue
DESCRIPTION:
URL:http://www.providencia.org.uy/actividad/jornada-despegue/
END:VEVENT
END:VCALENDAR