BEGIN:VCALENDAR
VERSION:2.0
PRODID:-//Providencia - ECPv4.6.25//NONSGML v1.0//EN
CALSCALE:GREGORIAN
METHOD:PUBLISH
X-WR-CALNAME:Providencia
X-ORIGINAL-URL:http://www.providencia.org.uy
X-WR-CALDESC:Eventos para Providencia
BEGIN:VEVENT
DTSTART;TZID=UTC+0:20200217T080000
DTEND;TZID=UTC+0:20200217T170000
DTSTAMP:20260420T013523
CREATED:20200225T180841Z
LAST-MODIFIED:20200225T180841Z
UID:4789-1581926400-1581958800@www.providencia.org.uy
SUMMARY:Paseo al Prado Centro Juvenil
DESCRIPTION:
URL:http://www.providencia.org.uy/actividad/paseo-al-prado-centro-juvenil/
END:VEVENT
END:VCALENDAR