BEGIN:VCALENDAR
VERSION:2.0
PRODID:-//Providencia - ECPv4.6.25//NONSGML v1.0//EN
CALSCALE:GREGORIAN
METHOD:PUBLISH
X-WR-CALNAME:Providencia
X-ORIGINAL-URL:http://www.providencia.org.uy
X-WR-CALDESC:Eventos para Providencia
BEGIN:VEVENT
DTSTART;TZID=UTC+0:20200213T080000
DTEND;TZID=UTC+0:20200213T170000
DTSTAMP:20260419T184243
CREATED:20200225T180622Z
LAST-MODIFIED:20200225T180622Z
UID:4781-1581580800-1581613200@www.providencia.org.uy
SUMMARY:Taller de Capoeira Centro Juvenil
DESCRIPTION:
URL:http://www.providencia.org.uy/actividad/taller-de-capoeira-centro-juvenil-2/
END:VEVENT
END:VCALENDAR